BEGIN:VCALENDAR
VERSION:2.0
PRODID:-//Tiers-lieu culturel, numérique et social d’Annonay - ECPv6.15.20//NONSGML v1.0//EN
CALSCALE:GREGORIAN
METHOD:PUBLISH
X-ORIGINAL-URL:https://26fk.fr
X-WR-CALDESC:Évènements pour Tiers-lieu culturel, numérique et social d’Annonay
REFRESH-INTERVAL;VALUE=DURATION:PT1H
X-Robots-Tag:noindex
X-PUBLISHED-TTL:PT1H
BEGIN:VTIMEZONE
TZID:Europe/Paris
BEGIN:DAYLIGHT
TZOFFSETFROM:+0100
TZOFFSETTO:+0200
TZNAME:CEST
DTSTART:20230326T010000
END:DAYLIGHT
BEGIN:STANDARD
TZOFFSETFROM:+0200
TZOFFSETTO:+0100
TZNAME:CET
DTSTART:20231029T010000
END:STANDARD
BEGIN:DAYLIGHT
TZOFFSETFROM:+0100
TZOFFSETTO:+0200
TZNAME:CEST
DTSTART:20240331T010000
END:DAYLIGHT
BEGIN:STANDARD
TZOFFSETFROM:+0200
TZOFFSETTO:+0100
TZNAME:CET
DTSTART:20241027T010000
END:STANDARD
BEGIN:DAYLIGHT
TZOFFSETFROM:+0100
TZOFFSETTO:+0200
TZNAME:CEST
DTSTART:20250330T010000
END:DAYLIGHT
BEGIN:STANDARD
TZOFFSETFROM:+0200
TZOFFSETTO:+0100
TZNAME:CET
DTSTART:20251026T010000
END:STANDARD
BEGIN:DAYLIGHT
TZOFFSETFROM:+0100
TZOFFSETTO:+0200
TZNAME:CEST
DTSTART:20260329T010000
END:DAYLIGHT
BEGIN:STANDARD
TZOFFSETFROM:+0200
TZOFFSETTO:+0100
TZNAME:CET
DTSTART:20261025T010000
END:STANDARD
END:VTIMEZONE
BEGIN:VEVENT
DTSTART;TZID=Europe/Paris:20241105T140000
DTEND;TZID=Europe/Paris:20241105T170000
DTSTAMP:20260421T114736
CREATED:20241104T092327Z
LAST-MODIFIED:20241104T095808Z
UID:1055-1730815200-1730826000@26fk.fr
SUMMARY:Le Jour des Jardinières
DESCRIPTION:Les 5 et 7 Novembre de 14h à 17h \nPrendre soin de la terre et de nos jardinières\, la nourrir et la préparer pour y semer les graines de fleurs et plantes comestibles. \nGrâce au soutien du service des Espaces Verts de la mairie d’Annonay\, nous profiterons de ce rendez-vous pour rendre le quartier plus joli avec les ateliers LAND ART qui suivront. \nVous avez des gants et du matériel à apporter? N’hésitez pas ! \nOuvert à toutes et tous – Présence des parents nécessaire pour les enfants de -10ans \nParticipation à prix libre pour soutenir l’association \nPour des raisons d’assurances\, adhésion nécessaire à tarif libre.
URL:https://26fk.fr/agenda/le-jour-des-jardinieres/
LOCATION:Placette du 26FK\, 26 rue Franki Kramer\, ANNONAY\, ARDECHE\, 07100\, France
ATTACH;FMTTYPE=image/png:https://26fk.fr/wp-content/uploads/2024/10/Affiche-Jour-des-Jardinieres-e1730711827145.png
ORGANIZER;CN="26FK":MAILTO:contact@26fk.fr
END:VEVENT
BEGIN:VEVENT
DTSTART;TZID=Europe/Paris:20241106T140000
DTEND;TZID=Europe/Paris:20241106T170000
DTSTAMP:20260421T114736
CREATED:20241104T100558Z
LAST-MODIFIED:20241104T100558Z
UID:1198-1730901600-1730912400@26fk.fr
SUMMARY:Land'Art Spécial Galets
DESCRIPTION:Les mercredis 6\, 13 et 20 Novembre de 14h à 17h \nLes jardinières préparées pour l’hiver\, elles seront joliment décorées en attendant le printemps ! \nPeints ou au naturel\,  nos créations (Fleurs\, libellules\, champignons…) viendront apporter une touche de poésie au quartier historique. \nVous partez en balade? N’hésitez pas à « cueillir vos galets » \nOuvert à tous – Présence des parents nécessaire pour les enfants de -10ans \nParticipation à prix libre  pour soutenir l’association. \nAdhésion nécessaire à tarif libre.
URL:https://26fk.fr/agenda/landart-special-galets/
ATTACH;FMTTYPE=image/png:https://26fk.fr/wp-content/uploads/2024/11/Affiche-LandArt-Galets-e1730714416438.png
END:VEVENT
BEGIN:VEVENT
DTSTART;TZID=Europe/Paris:20241108T090000
DTEND;TZID=Europe/Paris:20241108T120000
DTSTAMP:20260421T114736
CREATED:20241104T100908Z
LAST-MODIFIED:20241104T100941Z
UID:1202-1731056400-1731067200@26fk.fr
SUMMARY:LES CHAUSSURES ROUGES- "Une femme toutes les 48h"
DESCRIPTION:Jeudi 7 novembre de 9h à 12h & Vendredi 15 novembre de 14h à 17h \nEn partenariat avec le C.I.D.F.F\, Rosana Quieros\, Juriste\, ISCG\, Chargée de Mission Egalité pour le CIDFF / MIFE DE L’ARDÈCHE vous accueille sur 2 ateliers pour peindre en rouge 100 paires de chaussures femmes et enfants représentant le nombre de victimes de féminicides en France. \nCes chaussures seront exposées le 25 novembre  2024 de 10h à 15 heures sur la Place des Cordeliers à Annonay. \nContact standard : 04.75.93.31.70 – cidff07@cidff07.fr
URL:https://26fk.fr/agenda/les-chaussures-rouges-une-femme-toutes-les-48h/
ATTACH;FMTTYPE=image/png:https://26fk.fr/wp-content/uploads/2024/11/2024-Appel-a-la-participation-PEINTURE-29102-e1730714904843.png
END:VEVENT
BEGIN:VEVENT
DTSTART;TZID=Europe/Paris:20241114T000000
DTEND;TZID=Europe/Paris:20250110T000000
DTSTAMP:20260421T114736
CREATED:20241128T114451Z
LAST-MODIFIED:20241128T114451Z
UID:1337-1731542400-1736467200@26fk.fr
SUMMARY:BIG BAZ'ART - Exp(l)osition collective
DESCRIPTION:BIG BAZ’ART – Exp(l)osition Collective
URL:https://26fk.fr/agenda/big-bazart-explosition-collective/
ATTACH;FMTTYPE=image/jpeg:https://26fk.fr/wp-content/uploads/2024/11/bigbazart2024jpg-4-e1732794160412.jpg
END:VEVENT
BEGIN:VEVENT
DTSTART;TZID=Europe/Paris:20241127T093000
DTEND;TZID=Europe/Paris:20241127T113000
DTSTAMP:20260421T114736
CREATED:20241122T104302Z
LAST-MODIFIED:20241128T075349Z
UID:1237-1732699800-1732707000@26fk.fr
SUMMARY:Projet Radio65+ #1
DESCRIPTION:Le nom est encore provisoire mais le projet est bel et bien construit. Du moins\, le cadre.. \nDans les grandes lignes\, il s’agit de découvrir le monde de la radiophonie et créer une émission 100% réalisée par des jeunes de 65 ans et plus! \nUne première rencontre mercredi 27 Novembre de 9h30 à 11h30 pour découvrir le studio et le projet\, partager ses idées de sujets pour l’émission à venir et enregistrer sons et voix pour le générique. \nOn vous attend nombreuses et nombreux ! \nUne prochaine date pour lancer la première émission : le 17 décembre de 15h30 à 16h30 \nL’EVENEMENT ICI ! \n 
URL:https://26fk.fr/agenda/projet-radio65-1/
ATTACH;FMTTYPE=image/png:https://26fk.fr/wp-content/uploads/2024/11/4-e1732271965674.png
ORGANIZER;CN="26FK":MAILTO:contact@26fk.fr
END:VEVENT
END:VCALENDAR