BEGIN:VCALENDAR
VERSION:2.0
PRODID:-//Tiers-lieu culturel, numérique et social d’Annonay - ECPv6.15.20//NONSGML v1.0//EN
CALSCALE:GREGORIAN
METHOD:PUBLISH
X-ORIGINAL-URL:https://26fk.fr
X-WR-CALDESC:Évènements pour Tiers-lieu culturel, numérique et social d’Annonay
REFRESH-INTERVAL;VALUE=DURATION:PT1H
X-Robots-Tag:noindex
X-PUBLISHED-TTL:PT1H
BEGIN:VTIMEZONE
TZID:Europe/Paris
BEGIN:DAYLIGHT
TZOFFSETFROM:+0100
TZOFFSETTO:+0200
TZNAME:CEST
DTSTART:20230326T010000
END:DAYLIGHT
BEGIN:STANDARD
TZOFFSETFROM:+0200
TZOFFSETTO:+0100
TZNAME:CET
DTSTART:20231029T010000
END:STANDARD
BEGIN:DAYLIGHT
TZOFFSETFROM:+0100
TZOFFSETTO:+0200
TZNAME:CEST
DTSTART:20240331T010000
END:DAYLIGHT
BEGIN:STANDARD
TZOFFSETFROM:+0200
TZOFFSETTO:+0100
TZNAME:CET
DTSTART:20241027T010000
END:STANDARD
BEGIN:DAYLIGHT
TZOFFSETFROM:+0100
TZOFFSETTO:+0200
TZNAME:CEST
DTSTART:20250330T010000
END:DAYLIGHT
BEGIN:STANDARD
TZOFFSETFROM:+0200
TZOFFSETTO:+0100
TZNAME:CET
DTSTART:20251026T010000
END:STANDARD
END:VTIMEZONE
BEGIN:VEVENT
DTSTART;TZID=Europe/Paris:20240306T100000
DTEND;TZID=Europe/Paris:20240306T133000
DTSTAMP:20260421T235223
CREATED:20240304T155016Z
LAST-MODIFIED:20240311T082049Z
UID:769-1709719200-1709731800@26fk.fr
SUMMARY:Cuisine participative
DESCRIPTION:Grâce à des denrées alimentaires données par les Restos du cœur et l’Intermarché\, nous imaginons et partageons ensemble une soupe et un repas. \n\nEn partenariat avec le collectif 31 et l’Accorderie. \n  \nTous les mercredis de 10h à 13h30 à l’Accorderie 
URL:https://26fk.fr/agenda/cuisine-participative/
LOCATION:L’Accorderie\, 3 rue Joseph Besset – Annonay
CATEGORIES:Café
ATTACH;FMTTYPE=image/png:https://26fk.fr/wp-content/uploads/2024/03/soupe-participative.png
END:VEVENT
BEGIN:VEVENT
DTSTART;TZID=Europe/Paris:20240308T163000
DTEND;TZID=Europe/Paris:20240308T173000
DTSTAMP:20260421T235223
CREATED:20240304T144630Z
LAST-MODIFIED:20240311T082035Z
UID:718-1709915400-1709919000@26fk.fr
SUMMARY:Goûter philo
DESCRIPTION:Voyager\, pour aller où?\nLe sujet te questionne?\nViens échanger et partager librement tes idées sur le sujet lors de notre goûter philo de mars !\n\n\nAnimé par Christophe\, professeur de philosophie et bénévole au 26FK.\nAccès libre\, sans inscription\n\n\n8 mars de 16h30 à 17h30\n\n\nRdv au 22\, rue Franki Kram
URL:https://26fk.fr/agenda/gouter-philo/
LOCATION:22\, rue Franki Kramer 7100 Annonay
CATEGORIES:Café
ATTACH;FMTTYPE=image/png:https://26fk.fr/wp-content/uploads/2024/03/gouter-philo-new2.png
END:VEVENT
BEGIN:VEVENT
DTSTART;TZID=Europe/Paris:20240313T100000
DTEND;TZID=Europe/Paris:20240313T133000
DTSTAMP:20260421T235223
CREATED:20240304T155347Z
LAST-MODIFIED:20240311T082020Z
UID:774-1710324000-1710336600@26fk.fr
SUMMARY:Cuisine participative
DESCRIPTION:Grâce à des denrées alimentaires données par les Restos du cœur et l’Intermarché\, nous imaginons et partageons ensemble une soupe et un repas. \nEn partenariat avec le collectif 31 et l’Accorderie. \n  \nTous les mercredis de 10h à 13h30 à l’Accorderie 
URL:https://26fk.fr/agenda/cuisine-participative-2/
LOCATION:L’Accorderie\, 3 rue Joseph Besset – Annonay
CATEGORIES:Café
ATTACH;FMTTYPE=image/png:https://26fk.fr/wp-content/uploads/2024/03/soupe-participative.png
END:VEVENT
BEGIN:VEVENT
DTSTART;TZID=Europe/Paris:20240313T140000
DTEND;TZID=Europe/Paris:20240313T170000
DTSTAMP:20260421T235223
CREATED:20240311T081635Z
LAST-MODIFIED:20240311T082004Z
UID:777-1710338400-1710349200@26fk.fr
SUMMARY:Atelier "Comme des poissons dans l'eau"
DESCRIPTION:Dans le cœur de ville\, à l’occasion du Bal des Forges qui se déroulera le 21 Juin prochain\, c’est l’univers aquatique qui est mis à l’honneur cette année.  Des animaux et végétaux marins se prendront d’une envie de visiter Annonay et s’amuseront à voltiger  au dessus de nos têtes pour nous offrir\, l’espace d’un été\, une vie dans notre monde marin. Algues\, coraux\, sardines\, raies manta \, méduses… conçus à partir de matériaux naturels et revalorisés (bois\, bambous\, tissus\, papiers\,plastiques…) naîtront entre vos mains. \nLes ateliers\, proposés par Moustache et Dentelles en partenariat avec 26FK\, seront animés par les bénévoles de l’association « La Moustache et des Dentelles »\, et de l’artiste mAAdi. \n\n\n\nVenez nombreuses et nombreux !  (les idées de création seront adaptés à chaque âge) \nTous les mercredis et vendredis de 14h à 17h  à l’atelier Moustache et Dentelles\, 24 rue Franki Kramer à Annonay. \nRENSEIGNEMENTS  auprès de l’association « La Moustache et des Dentelles »  moustache.dentelles@gmail.com ou de mAAdi: 06.360.860.22
URL:https://26fk.fr/agenda/atelier-comme-des-poissons-dans-leau/
CATEGORIES:Galerie d'Art
ATTACH;FMTTYPE=image/png:https://26fk.fr/wp-content/uploads/2024/03/poissons.png
END:VEVENT
BEGIN:VEVENT
DTSTART;TZID=Europe/Paris:20240313T143000
DTEND;TZID=Europe/Paris:20240313T163000
DTSTAMP:20260421T235223
CREATED:20240304T152248Z
LAST-MODIFIED:20240311T081950Z
UID:749-1710340200-1710347400@26fk.fr
SUMMARY:Atelier de création de produit de beauté
DESCRIPTION:Intéressé.e par l’écologie et le faire soi-même? Cet atelier est pour toi ! \n\n\n\n\n\n> Atelier sur la création de produits cosmétiques maison <\n\n\nApprends des recettes maison pour créer toi-même des produits cosmétiques naturels\, faciles et pas cher.\n\n\n13 mars de 14h30 à 16h30 au 22\, rue Franki Kramer – Annonay\n+ d’infos : cafeassociatif@26fk.fr – 04.75.69.35.01
URL:https://26fk.fr/agenda/atelier-de-creation-de-produit-de-beaute/
LOCATION:22\, rue Franki Kramer 7100 Annonay
CATEGORIES:Café
ATTACH;FMTTYPE=image/png:https://26fk.fr/wp-content/uploads/2024/03/atelier-beaute1.png
END:VEVENT
BEGIN:VEVENT
DTSTART;TZID=Europe/Paris:20240315T140000
DTEND;TZID=Europe/Paris:20240315T170000
DTSTAMP:20260421T235223
CREATED:20240311T081835Z
LAST-MODIFIED:20240311T081835Z
UID:780-1710511200-1710522000@26fk.fr
SUMMARY:Atelier « Comme des poissons dans l’eau »
DESCRIPTION:Dans le cœur de ville\, à l’occasion du Bal des Forges qui se déroulera le 21 Juin prochain\, c’est l’univers aquatique qui est mis à l’honneur cette année.  Des animaux et végétaux marins se prendront d’une envie de visiter Annonay et s’amuseront à voltiger  au dessus de nos têtes pour nous offrir\, l’espace d’un été\, une vie dans notre monde marin. Algues\, coraux\, sardines\, raies manta \, méduses… conçus à partir de matériaux naturels et revalorisés (bois\, bambous\, tissus\, papiers\,plastiques…) naîtront entre vos mains. \nLes ateliers\, proposés par Moustache et Dentelles en partenariat avec 26FK\, seront animés par les bénévoles de l’association « La Moustache et des Dentelles »\, et de l’artiste mAAdi. \n\n\n\nVenez nombreuses et nombreux !  (les idées de création seront adaptés à chaque âge) \nTous les mercredis et vendredis de 14h à 17h  à l’atelier Moustache et Dentelles\, 24 rue Franki Kramer à Annonay. \nRENSEIGNEMENTS  auprès de l’association « La Moustache et des Dentelles »  moustache.dentelles@gmail.com ou de mAAdi: 06.360.860.22
URL:https://26fk.fr/agenda/atelier-comme-des-poissons-dans-leau-2/
CATEGORIES:Galerie d'Art
ATTACH;FMTTYPE=image/png:https://26fk.fr/wp-content/uploads/2024/03/poissons.png
END:VEVENT
BEGIN:VEVENT
DTSTART;TZID=Europe/Paris:20240320T100000
DTEND;TZID=Europe/Paris:20240320T133000
DTSTAMP:20260421T235223
CREATED:20240311T082814Z
LAST-MODIFIED:20240311T082814Z
UID:797-1710928800-1710941400@26fk.fr
SUMMARY:Cuisine participative
DESCRIPTION:Grâce à des denrées alimentaires données par les Restos du cœur et l’Intermarché\, nous imaginons et partageons ensemble une soupe et un repas. \nEn partenariat avec le collectif 31 et l’Accorderie. \n  \nTous les mercredis de 10h à 13h30 à l’Accorderie 
URL:https://26fk.fr/agenda/cuisine-participative-3/
CATEGORIES:Café
ATTACH;FMTTYPE=image/png:https://26fk.fr/wp-content/uploads/2024/03/soupe-participative.png
END:VEVENT
BEGIN:VEVENT
DTSTART;TZID=Europe/Paris:20240320T140000
DTEND;TZID=Europe/Paris:20240320T170000
DTSTAMP:20260421T235223
CREATED:20240311T082246Z
LAST-MODIFIED:20240311T082448Z
UID:789-1710943200-1710954000@26fk.fr
SUMMARY:Atelier « Comme des poissons dans l’eau »
DESCRIPTION:Dans le cœur de ville\, à l’occasion du Bal des Forges qui se déroulera le 21 Juin prochain\, c’est l’univers aquatique qui est mis à l’honneur cette année.  Des animaux et végétaux marins se prendront d’une envie de visiter Annonay et s’amuseront à voltiger  au dessus de nos têtes pour nous offrir\, l’espace d’un été\, une vie dans notre monde marin. Algues\, coraux\, sardines\, raies manta \, méduses… conçus à partir de matériaux naturels et revalorisés (bois\, bambous\, tissus\, papiers\,plastiques…) naîtront entre vos mains. \nLes ateliers\, proposés par Moustache et Dentelles en partenariat avec 26FK\, seront animés par les bénévoles de l’association « La Moustache et des Dentelles »\, et de l’artiste mAAdi. \n\n\n\nVenez nombreuses et nombreux !  (les idées de création seront adaptés à chaque âge) \nTous les mercredis et vendredis de 14h à 17h  à l’atelier Moustache et Dentelles\, 24 rue Franki Kramer à Annonay. \nRENSEIGNEMENTS  auprès de l’association « La Moustache et des Dentelles »  moustache.dentelles@gmail.com ou de mAAdi: 06.360.860.22
URL:https://26fk.fr/agenda/atelier-comme-des-poissons-dans-leau-3/
CATEGORIES:Galerie d'Art
ATTACH;FMTTYPE=image/png:https://26fk.fr/wp-content/uploads/2024/03/poissons.png
END:VEVENT
BEGIN:VEVENT
DTSTART;TZID=Europe/Paris:20240321T150000
DTEND;TZID=Europe/Paris:20240321T180000
DTSTAMP:20260421T235223
CREATED:20240311T083316Z
LAST-MODIFIED:20240311T083358Z
UID:801-1711033200-1711044000@26fk.fr
SUMMARY:Grande lessive “Faire des bulles”
DESCRIPTION:Les créations réalisées (dessins – collage – peinture – photographie) seront de format A4 et exposées sur des fils à linge\, placette du 26 FK en haut de la rue Franki Kramer (07100 ANNONAY) et viendront se confronter aux bulles de savon : le caractère éphémère des bulles de savon interroge le devenir d’un acte artistique. C’est pourquoi cette performance pourra être filmée et les étendages photographiés afin d’en conserver des traces. \nPour permettre au public de créer et de participer\, des ateliers seront organisés sur place le jour même mais aussi en amont les vendredi 15 mars et mercredi 20 mars de 14h – 17h \nTout public\, gratuit
URL:https://26fk.fr/agenda/grande-lessive-les-bulles/
CATEGORIES:Galerie d'Art
ATTACH;FMTTYPE=image/png:https://26fk.fr/wp-content/uploads/2024/03/TyxlUDHUe45i.png
END:VEVENT
BEGIN:VEVENT
DTSTART;TZID=Europe/Paris:20240322T140000
DTEND;TZID=Europe/Paris:20240322T170000
DTSTAMP:20260421T235223
CREATED:20240311T082329Z
LAST-MODIFIED:20240311T082329Z
UID:791-1711116000-1711126800@26fk.fr
SUMMARY:Atelier « Comme des poissons dans l’eau »
DESCRIPTION:Dans le cœur de ville\, à l’occasion du Bal des Forges qui se déroulera le 21 Juin prochain\, c’est l’univers aquatique qui est mis à l’honneur cette année.  Des animaux et végétaux marins se prendront d’une envie de visiter Annonay et s’amuseront à voltiger  au dessus de nos têtes pour nous offrir\, l’espace d’un été\, une vie dans notre monde marin. Algues\, coraux\, sardines\, raies manta \, méduses… conçus à partir de matériaux naturels et revalorisés (bois\, bambous\, tissus\, papiers\,plastiques…) naîtront entre vos mains. \nLes ateliers\, proposés par Moustache et Dentelles en partenariat avec 26FK\, seront animés par les bénévoles de l’association « La Moustache et des Dentelles »\, et de l’artiste mAAdi. \n\n\n\nVenez nombreuses et nombreux !  (les idées de création seront adaptés à chaque âge) \nTous les mercredis et vendredis de 14h à 17h  à l’atelier Moustache et Dentelles\, 24 rue Franki Kramer à Annonay. \nRENSEIGNEMENTS  auprès de l’association « La Moustache et des Dentelles »  moustache.dentelles@gmail.com ou de mAAdi: 06.360.860.22
URL:https://26fk.fr/agenda/atelier-comme-des-poissons-dans-leau-4/
CATEGORIES:Galerie d'Art
ATTACH;FMTTYPE=image/png:https://26fk.fr/wp-content/uploads/2024/03/poissons.png
END:VEVENT
BEGIN:VEVENT
DTSTART;TZID=Europe/Paris:20240327T100000
DTEND;TZID=Europe/Paris:20240327T133000
DTSTAMP:20260421T235223
CREATED:20240311T082908Z
LAST-MODIFIED:20240311T082908Z
UID:799-1711533600-1711546200@26fk.fr
SUMMARY:Cuisine participative
DESCRIPTION:Grâce à des denrées alimentaires données par les Restos du cœur et l’Intermarché\, nous imaginons et partageons ensemble une soupe et un repas. En partenariat avec le collectif 31 et l’Accorderie. Tous les mercredis de 10h à 13h30 à l’Accorderie Grâce à des denrées alimentaires données par les Restos du cœur et l’Intermarché\, nous imaginons et partageons ensemble une soupe et un repas. En partenariat avec le collectif 31 et l’Accorderie. Tous les mercredis de 10h à 13h30 à l’Accorderie
URL:https://26fk.fr/agenda/cuisine-participative-4/
CATEGORIES:Café
ATTACH;FMTTYPE=image/png:https://26fk.fr/wp-content/uploads/2024/03/soupe-participative.png
END:VEVENT
BEGIN:VEVENT
DTSTART;TZID=Europe/Paris:20240327T140000
DTEND;TZID=Europe/Paris:20240327T170000
DTSTAMP:20260421T235223
CREATED:20240311T082545Z
LAST-MODIFIED:20240311T082545Z
UID:793-1711548000-1711558800@26fk.fr
SUMMARY:Atelier « Comme des poissons dans l’eau »
DESCRIPTION:Dans le cœur de ville\, à l’occasion du Bal des Forges qui se déroulera le 21 Juin prochain\, c’est l’univers aquatique qui est mis à l’honneur cette année.  Des animaux et végétaux marins se prendront d’une envie de visiter Annonay et s’amuseront à voltiger  au dessus de nos têtes pour nous offrir\, l’espace d’un été\, une vie dans notre monde marin. Algues\, coraux\, sardines\, raies manta \, méduses… conçus à partir de matériaux naturels et revalorisés (bois\, bambous\, tissus\, papiers\,plastiques…) naîtront entre vos mains. \nLes ateliers\, proposés par Moustache et Dentelles en partenariat avec 26FK\, seront animés par les bénévoles de l’association « La Moustache et des Dentelles »\, et de l’artiste mAAdi. \n\n\n\nVenez nombreuses et nombreux !  (les idées de création seront adaptés à chaque âge) \nTous les mercredis et vendredis de 14h à 17h  à l’atelier Moustache et Dentelles\, 24 rue Franki Kramer à Annonay. \nRENSEIGNEMENTS  auprès de l’association « La Moustache et des Dentelles »  moustache.dentelles@gmail.com ou de mAAdi: 06.360.860.22
URL:https://26fk.fr/agenda/atelier-comme-des-poissons-dans-leau-5/
CATEGORIES:Galerie d'Art
ATTACH;FMTTYPE=image/png:https://26fk.fr/wp-content/uploads/2024/03/poissons.png
END:VEVENT
BEGIN:VEVENT
DTSTART;TZID=Europe/Paris:20240327T143000
DTEND;TZID=Europe/Paris:20240327T163000
DTSTAMP:20260421T235223
CREATED:20240304T152522Z
LAST-MODIFIED:20240311T081929Z
UID:752-1711549800-1711557000@26fk.fr
SUMMARY:Atelier de création de déco de Pâques
DESCRIPTION:Venez créer des décorations à l’approche de Pâques !
URL:https://26fk.fr/agenda/atelier-de-creation-de-deco-de-paques/
LOCATION:22\, rue Franki Kramer 7100 Annonay
CATEGORIES:Café
ATTACH;FMTTYPE=image/png:https://26fk.fr/wp-content/uploads/2024/03/atelier-paques.png
END:VEVENT
BEGIN:VEVENT
DTSTART;TZID=Europe/Paris:20240329T093000
DTEND;TZID=Europe/Paris:20240329T120000
DTSTAMP:20260421T235223
CREATED:20240304T145107Z
LAST-MODIFIED:20240311T081915Z
UID:726-1711704600-1711713600@26fk.fr
SUMMARY:Parentibulle
DESCRIPTION:Parents d’enfants en bas âge (jusqu’à 6 ans)\, venez partager un moment avec vos enfants et échanger autour de la parentalité avec des professionnelles. Un coin de jeux est aménagé pour les enfants. Accès libre. Une action organisée par l’association ADEPP ADeHL \n\n 
URL:https://26fk.fr/agenda/parentibulle/
LOCATION:22\, rue Franki Kramer 7100 Annonay
CATEGORIES:Café
ATTACH;FMTTYPE=image/png:https://26fk.fr/wp-content/uploads/2024/03/parentibulle-1.png
END:VEVENT
BEGIN:VEVENT
DTSTART;TZID=Europe/Paris:20240329T140000
DTEND;TZID=Europe/Paris:20240329T170000
DTSTAMP:20260421T235223
CREATED:20240311T082621Z
LAST-MODIFIED:20240311T082716Z
UID:795-1711720800-1711731600@26fk.fr
SUMMARY:Atelier « Comme des poissons dans l’eau »
DESCRIPTION:Dans le cœur de ville\, à l’occasion du Bal des Forges qui se déroulera le 21 Juin prochain\, c’est l’univers aquatique qui est mis à l’honneur cette année.  Des animaux et végétaux marins se prendront d’une envie de visiter Annonay et s’amuseront à voltiger  au dessus de nos têtes pour nous offrir\, l’espace d’un été\, une vie dans notre monde marin. Algues\, coraux\, sardines\, raies manta \, méduses… conçus à partir de matériaux naturels et revalorisés (bois\, bambous\, tissus\, papiers\,plastiques…) naîtront entre vos mains. \nLes ateliers\, proposés par Moustache et Dentelles en partenariat avec 26FK\, seront animés par les bénévoles de l’association « La Moustache et des Dentelles »\, et de l’artiste mAAdi. \n\n\n\nVenez nombreuses et nombreux !  (les idées de création seront adaptés à chaque âge) \nTous les mercredis et vendredis de 14h à 17h  à l’atelier Moustache et Dentelles\, 24 rue Franki Kramer à Annonay. \nRENSEIGNEMENTS  auprès de l’association « La Moustache et des Dentelles »  moustache.dentelles@gmail.com ou de mAAdi: 06.360.860.22
URL:https://26fk.fr/agenda/atelier-comme-des-poissons-dans-leau-6/
CATEGORIES:Galerie d'Art
ATTACH;FMTTYPE=image/png:https://26fk.fr/wp-content/uploads/2024/03/poissons.png
END:VEVENT
END:VCALENDAR