BEGIN:VCALENDAR
VERSION:2.0
PRODID:-//Tiers-lieu culturel, numérique et social d’Annonay - ECPv6.15.20//NONSGML v1.0//EN
CALSCALE:GREGORIAN
METHOD:PUBLISH
X-ORIGINAL-URL:https://26fk.fr
X-WR-CALDESC:Évènements pour Tiers-lieu culturel, numérique et social d’Annonay
REFRESH-INTERVAL;VALUE=DURATION:PT1H
X-Robots-Tag:noindex
X-PUBLISHED-TTL:PT1H
BEGIN:VTIMEZONE
TZID:Europe/Paris
BEGIN:DAYLIGHT
TZOFFSETFROM:+0100
TZOFFSETTO:+0200
TZNAME:CEST
DTSTART:20220327T010000
END:DAYLIGHT
BEGIN:STANDARD
TZOFFSETFROM:+0200
TZOFFSETTO:+0100
TZNAME:CET
DTSTART:20221030T010000
END:STANDARD
BEGIN:DAYLIGHT
TZOFFSETFROM:+0100
TZOFFSETTO:+0200
TZNAME:CEST
DTSTART:20230326T010000
END:DAYLIGHT
BEGIN:STANDARD
TZOFFSETFROM:+0200
TZOFFSETTO:+0100
TZNAME:CET
DTSTART:20231029T010000
END:STANDARD
BEGIN:DAYLIGHT
TZOFFSETFROM:+0100
TZOFFSETTO:+0200
TZNAME:CEST
DTSTART:20240331T010000
END:DAYLIGHT
BEGIN:STANDARD
TZOFFSETFROM:+0200
TZOFFSETTO:+0100
TZNAME:CET
DTSTART:20241027T010000
END:STANDARD
END:VTIMEZONE
BEGIN:VEVENT
DTSTART;TZID=Europe/Paris:20230712T163000
DTEND;TZID=Europe/Paris:20230712T183000
DTSTAMP:20260422T120717
CREATED:20230703T144600Z
LAST-MODIFIED:20230703T153340Z
UID:643-1689179400-1689186600@26fk.fr
SUMMARY:Atelier : J'imprime des végétaux sur du tissu
DESCRIPTION:Venez apprendre à imprimer des végétaux sur du tissu ou du papier par décoction ou au marteau. \nC’est économique et écologique ! \n 
URL:https://26fk.fr/agenda/atelier-jimprime-des-vegetaux-sur-du-tissu/
CATEGORIES:Café
ATTACH;FMTTYPE=image/png:https://26fk.fr/wp-content/uploads/2023/07/bandeausite-actu1.png
END:VEVENT
END:VCALENDAR