BEGIN:VCALENDAR
VERSION:2.0
PRODID:-//Tiers-lieu culturel, numérique et social d’Annonay - ECPv6.15.20//NONSGML v1.0//EN
CALSCALE:GREGORIAN
METHOD:PUBLISH
X-WR-CALNAME:Tiers-lieu culturel, numérique et social d’Annonay
X-ORIGINAL-URL:https://26fk.fr
X-WR-CALDESC:Évènements pour Tiers-lieu culturel, numérique et social d’Annonay
REFRESH-INTERVAL;VALUE=DURATION:PT1H
X-Robots-Tag:noindex
X-PUBLISHED-TTL:PT1H
BEGIN:VTIMEZONE
TZID:Europe/Paris
BEGIN:DAYLIGHT
TZOFFSETFROM:+0100
TZOFFSETTO:+0200
TZNAME:CEST
DTSTART:20250330T010000
END:DAYLIGHT
BEGIN:STANDARD
TZOFFSETFROM:+0200
TZOFFSETTO:+0100
TZNAME:CET
DTSTART:20251026T010000
END:STANDARD
BEGIN:DAYLIGHT
TZOFFSETFROM:+0100
TZOFFSETTO:+0200
TZNAME:CEST
DTSTART:20260329T010000
END:DAYLIGHT
BEGIN:STANDARD
TZOFFSETFROM:+0200
TZOFFSETTO:+0100
TZNAME:CET
DTSTART:20261025T010000
END:STANDARD
BEGIN:DAYLIGHT
TZOFFSETFROM:+0100
TZOFFSETTO:+0200
TZNAME:CEST
DTSTART:20270328T010000
END:DAYLIGHT
BEGIN:STANDARD
TZOFFSETFROM:+0200
TZOFFSETTO:+0100
TZNAME:CET
DTSTART:20271031T010000
END:STANDARD
END:VTIMEZONE
BEGIN:VEVENT
DTSTART;TZID=Europe/Paris:20260606T100000
DTEND;TZID=Europe/Paris:20260606T120000
DTSTAMP:20260420T173751
CREATED:20260403T132250Z
LAST-MODIFIED:20260410T144027Z
UID:2549-1780740000-1780747200@26fk.fr
SUMMARY:Troc de boutures
DESCRIPTION:C’est la belle saison\, un bon moment pour refaire le plein de plantes d’intérieur et agrandir ta collection ! Viens avec tes boutures et échange les contre d’autres variétés !  \nGratuit\, sans inscription et ouvert à toustes \n 
URL:https://26fk.fr/agenda/troc-de-boutures/
LOCATION:26 rue Franki Kramer\, 26 rue Franki Kramer\, Annonay\, 07100
CATEGORIES:Evénements
ATTACH;FMTTYPE=image/png:https://26fk.fr/wp-content/uploads/2026/04/Affiche-troc-de-boutures.png
ORGANIZER;CN="26FK":MAILTO:contact@26fk.fr
END:VEVENT
END:VCALENDAR