BEGIN:VCALENDAR
VERSION:2.0
PRODID:-//Tiers-lieu culturel, numérique et social d’Annonay - ECPv6.15.20//NONSGML v1.0//EN
CALSCALE:GREGORIAN
METHOD:PUBLISH
X-ORIGINAL-URL:https://26fk.fr
X-WR-CALDESC:Évènements pour Tiers-lieu culturel, numérique et social d’Annonay
REFRESH-INTERVAL;VALUE=DURATION:PT1H
X-Robots-Tag:noindex
X-PUBLISHED-TTL:PT1H
BEGIN:VTIMEZONE
TZID:Europe/Paris
BEGIN:DAYLIGHT
TZOFFSETFROM:+0100
TZOFFSETTO:+0200
TZNAME:CEST
DTSTART:20250330T010000
END:DAYLIGHT
BEGIN:STANDARD
TZOFFSETFROM:+0200
TZOFFSETTO:+0100
TZNAME:CET
DTSTART:20251026T010000
END:STANDARD
BEGIN:DAYLIGHT
TZOFFSETFROM:+0100
TZOFFSETTO:+0200
TZNAME:CEST
DTSTART:20260329T010000
END:DAYLIGHT
BEGIN:STANDARD
TZOFFSETFROM:+0200
TZOFFSETTO:+0100
TZNAME:CET
DTSTART:20261025T010000
END:STANDARD
BEGIN:DAYLIGHT
TZOFFSETFROM:+0100
TZOFFSETTO:+0200
TZNAME:CEST
DTSTART:20270328T010000
END:DAYLIGHT
BEGIN:STANDARD
TZOFFSETFROM:+0200
TZOFFSETTO:+0100
TZNAME:CET
DTSTART:20271031T010000
END:STANDARD
END:VTIMEZONE
BEGIN:VEVENT
DTSTART;TZID=Europe/Paris:20260220T143000
DTEND;TZID=Europe/Paris:20260220T153000
DTSTAMP:20260420T120928
CREATED:20260206T112222Z
LAST-MODIFIED:20260219T171736Z
UID:2392-1771597800-1771601400@26fk.fr
SUMMARY:Yoga du rire
DESCRIPTION:On réactive le corps et hop rebondit le diaphragme\, on respire et on réveille les zygomatiques! On stimule les endorphines !\nAu début on démarre un vieux moteur parfois rouillé et zou…\nTesté et approuvé !\nViens essayer !\n10 places maximum \nTarif libre\, 5€ conseillé \nInscription par SMS au  \n07 83 85 14 21
URL:https://26fk.fr/agenda/yoga-du-rire-2/
LOCATION:Café asso 26FK\, 22 rue Franki Kramer\, ANNONAY\, 07100\, France
CATEGORIES:BIEN-ÊTRE
ATTACH;FMTTYPE=image/png:https://26fk.fr/wp-content/uploads/2026/02/Visuels-generalistes-1300-x-1300-px-2.png
ORGANIZER;CN="26FK":MAILTO:contact@26fk.fr
END:VEVENT
BEGIN:VEVENT
DTSTART;TZID=Europe/Paris:20260220T143000
DTEND;TZID=Europe/Paris:20260220T163000
DTSTAMP:20260420T120928
CREATED:20260130T152952Z
LAST-MODIFIED:20260130T153950Z
UID:2346-1771597800-1771605000@26fk.fr
SUMMARY:Atelier décor de rue
DESCRIPTION:Ateliers décor de rue dans le centre historique\nChaque mercredi et vendredi (hors fériés) de février à juillet\, le 26FK et la Galerie Moustache & Dentelles proposent des ateliers de création d’un décor de rue géant avec des artistes plasticien.nes au top : Maadi et Thipot\n\nThème 2026 : STREET ART\n\nProgramme :> Février : découverte du street art : de quoi on parle ? à quoi ça peut ressembler ?> Mars : conception du décor : visites du quartier\, qu’est-ce qu’on met où ?> D’avril à juin : création plastique : dessin\, graff\, collage\, sculpture\, pochoir\, mosaïque… Tout ce que le cœur nous en dit> Courant juin / juillet (dates à venir) : fresque collective avec Anne Henry\n\n\nInfos pratiques :Sans inscription\, participation libreRDV le mercredi au café du 26FK\, au 22 rue Franki KramerRDV le vendredi à la galerie Moustache & Dentelles\, au 24 rue Franki KramerEn cas de beau temps\, RDV sur la placette de l’ancien 26\, au 26 rue Franki KramerAucun prérequis demandé\, pas de matériel à apporter\nPour toute info : Mathilde au 07 68 99 58 76
URL:https://26fk.fr/agenda/atelier-decor-de-rue-6/
LOCATION:Moustache et Dentelles\, 24 rue Franki Kramer\, Annonay\, 07100
CATEGORIES:Culture
ATTACH;FMTTYPE=image/png:https://26fk.fr/wp-content/uploads/2026/01/Ateliers-decor-de-rue-Decouverte-du-street-art-Conception-de-decor-Creation-plastique-scaled.png
ORGANIZER;CN="26FK":MAILTO:contact@26fk.fr
END:VEVENT
END:VCALENDAR