BEGIN:VCALENDAR
VERSION:2.0
PRODID:-//Tiers-lieu culturel, numérique et social d’Annonay - ECPv6.15.20//NONSGML v1.0//EN
CALSCALE:GREGORIAN
METHOD:PUBLISH
X-ORIGINAL-URL:https://26fk.fr
X-WR-CALDESC:Évènements pour Tiers-lieu culturel, numérique et social d’Annonay
REFRESH-INTERVAL;VALUE=DURATION:PT1H
X-Robots-Tag:noindex
X-PUBLISHED-TTL:PT1H
BEGIN:VTIMEZONE
TZID:Europe/Paris
BEGIN:DAYLIGHT
TZOFFSETFROM:+0100
TZOFFSETTO:+0200
TZNAME:CEST
DTSTART:20230326T010000
END:DAYLIGHT
BEGIN:STANDARD
TZOFFSETFROM:+0200
TZOFFSETTO:+0100
TZNAME:CET
DTSTART:20231029T010000
END:STANDARD
BEGIN:DAYLIGHT
TZOFFSETFROM:+0100
TZOFFSETTO:+0200
TZNAME:CEST
DTSTART:20240331T010000
END:DAYLIGHT
BEGIN:STANDARD
TZOFFSETFROM:+0200
TZOFFSETTO:+0100
TZNAME:CET
DTSTART:20241027T010000
END:STANDARD
BEGIN:DAYLIGHT
TZOFFSETFROM:+0100
TZOFFSETTO:+0200
TZNAME:CEST
DTSTART:20250330T010000
END:DAYLIGHT
BEGIN:STANDARD
TZOFFSETFROM:+0200
TZOFFSETTO:+0100
TZNAME:CET
DTSTART:20251026T010000
END:STANDARD
END:VTIMEZONE
BEGIN:VEVENT
DTSTART;TZID=Europe/Paris:20241024T080000
DTEND;TZID=Europe/Paris:20241024T170000
DTSTAMP:20260421T144054
CREATED:20241024T144101Z
LAST-MODIFIED:20241024T152058Z
UID:1058-1729756800-1729789200@26fk.fr
SUMMARY:HAPPY HALLOWEEN 2024!
DESCRIPTION:Pour les petits et grands enfants!\nPour faire honneur à cette fête traditionnelle celtique irlandaise qui a vu le jour il y a maintenant 2500 ans\, on se grime\, on se maquille\, on part à la chasse aux bonbons dans la ville et on danse après un bon goûter !\n\nINSCRIPTION  ICI  ou au 26FK (22 rue Franki Kramer du lundi au vendredi de 14h à 17h) ou auprès de Mathilde au 07.68.99.58 76\n2€/enfant  – Adhésion annuelle à prix libre (tarif solidaire possible à 12€/an)\nLes enfants de moins de 10 ans doivent être accompagnés de leurs parents et une autorisation écrite sera nécessaire pour les enfants de moins de 14 ans.\nEnvie d’adhérer à notre association? C’est par ici 
URL:https://26fk.fr/agenda/happy-halloween-2024/
END:VEVENT
END:VCALENDAR