BEGIN:VCALENDAR
VERSION:2.0
PRODID:-//Tiers-lieu culturel, numérique et social d’Annonay - ECPv6.15.20//NONSGML v1.0//EN
CALSCALE:GREGORIAN
METHOD:PUBLISH
X-WR-CALNAME:Tiers-lieu culturel, numérique et social d’Annonay
X-ORIGINAL-URL:https://26fk.fr
X-WR-CALDESC:Évènements pour Tiers-lieu culturel, numérique et social d’Annonay
REFRESH-INTERVAL;VALUE=DURATION:PT1H
X-Robots-Tag:noindex
X-PUBLISHED-TTL:PT1H
BEGIN:VTIMEZONE
TZID:Europe/Paris
BEGIN:DAYLIGHT
TZOFFSETFROM:+0100
TZOFFSETTO:+0200
TZNAME:CEST
DTSTART:20230326T010000
END:DAYLIGHT
BEGIN:STANDARD
TZOFFSETFROM:+0200
TZOFFSETTO:+0100
TZNAME:CET
DTSTART:20231029T010000
END:STANDARD
BEGIN:DAYLIGHT
TZOFFSETFROM:+0100
TZOFFSETTO:+0200
TZNAME:CEST
DTSTART:20240331T010000
END:DAYLIGHT
BEGIN:STANDARD
TZOFFSETFROM:+0200
TZOFFSETTO:+0100
TZNAME:CET
DTSTART:20241027T010000
END:STANDARD
BEGIN:DAYLIGHT
TZOFFSETFROM:+0100
TZOFFSETTO:+0200
TZNAME:CEST
DTSTART:20250330T010000
END:DAYLIGHT
BEGIN:STANDARD
TZOFFSETFROM:+0200
TZOFFSETTO:+0100
TZNAME:CET
DTSTART:20251026T010000
END:STANDARD
END:VTIMEZONE
BEGIN:VEVENT
DTSTART;TZID=Europe/Paris:20240724T080000
DTEND;TZID=Europe/Paris:20240831T170000
DTSTAMP:20260421T174920
CREATED:20240724T120235Z
LAST-MODIFIED:20240724T120309Z
UID:935-1721808000-1725123600@26fk.fr
SUMMARY:Enquête citoyenne
DESCRIPTION:  \n\n\n\n\n\nParticipez à notre enquête citoyenne\nSur Annonay et le centre historique\n\n\nElle vise à connaître la perception des habitant.es et visiteur.es du territoire de ses services sur diverses thématiques\, ainsi que déceler les besoins sociaux potentiels.\n\n\nElle ne vous prendra que quelques minutes.\n\n\n> C’est par ici : https://5xnmudxswmm.typeform.com/to/g53POK8d\n\n\nMerci pour votre participation
URL:https://26fk.fr/agenda/935/
END:VEVENT
END:VCALENDAR