BEGIN:VCALENDAR
VERSION:2.0
PRODID:-//Tiers-lieu culturel, numérique et social d’Annonay - ECPv6.15.20//NONSGML v1.0//EN
CALSCALE:GREGORIAN
METHOD:PUBLISH
X-WR-CALNAME:Tiers-lieu culturel, numérique et social d’Annonay
X-ORIGINAL-URL:https://26fk.fr
X-WR-CALDESC:Évènements pour Tiers-lieu culturel, numérique et social d’Annonay
REFRESH-INTERVAL;VALUE=DURATION:PT1H
X-Robots-Tag:noindex
X-PUBLISHED-TTL:PT1H
BEGIN:VTIMEZONE
TZID:Europe/Paris
BEGIN:DAYLIGHT
TZOFFSETFROM:+0100
TZOFFSETTO:+0200
TZNAME:CEST
DTSTART:20230326T010000
END:DAYLIGHT
BEGIN:STANDARD
TZOFFSETFROM:+0200
TZOFFSETTO:+0100
TZNAME:CET
DTSTART:20231029T010000
END:STANDARD
BEGIN:DAYLIGHT
TZOFFSETFROM:+0100
TZOFFSETTO:+0200
TZNAME:CEST
DTSTART:20240331T010000
END:DAYLIGHT
BEGIN:STANDARD
TZOFFSETFROM:+0200
TZOFFSETTO:+0100
TZNAME:CET
DTSTART:20241027T010000
END:STANDARD
BEGIN:DAYLIGHT
TZOFFSETFROM:+0100
TZOFFSETTO:+0200
TZNAME:CEST
DTSTART:20250330T010000
END:DAYLIGHT
BEGIN:STANDARD
TZOFFSETFROM:+0200
TZOFFSETTO:+0100
TZNAME:CET
DTSTART:20251026T010000
END:STANDARD
END:VTIMEZONE
BEGIN:VEVENT
DTSTART;TZID=Europe/Paris:20240620T170000
DTEND;TZID=Europe/Paris:20240620T203000
DTSTAMP:20260421T204204
CREATED:20240604T140653Z
LAST-MODIFIED:20240624T141902Z
UID:896-1718902800-1718915400@26fk.fr
SUMMARY:Bal des forges
DESCRIPTION:Événement organisé en partenariat avec Les Vieux Quartiers\, le Bar de la Mairie\, Moustache et Dentelles et le 26FK à l’occasion de la fête de la musique. \n  \nConcerts et spectacles : danses mahoraises “Afro mahorais”\, Chœur impromptu\, Collectif de la Valoire\, Jean Yves Serves et son orchestre\, Concert Diato Place Mayol \nBuvette \nRestauration “Pita et Patata” \nPrix : Gratuit \nLieu : Place des Forges
URL:https://26fk.fr/agenda/bal-des-forges/
LOCATION:22\, rue Franki Kramer 7100 Annonay
END:VEVENT
END:VCALENDAR