BEGIN:VCALENDAR
VERSION:2.0
PRODID:-//Tiers-lieu culturel, numérique et social d’Annonay - ECPv6.15.20//NONSGML v1.0//EN
CALSCALE:GREGORIAN
METHOD:PUBLISH
X-ORIGINAL-URL:https://26fk.fr
X-WR-CALDESC:Évènements pour Tiers-lieu culturel, numérique et social d’Annonay
REFRESH-INTERVAL;VALUE=DURATION:PT1H
X-Robots-Tag:noindex
X-PUBLISHED-TTL:PT1H
BEGIN:VTIMEZONE
TZID:Europe/Paris
BEGIN:DAYLIGHT
TZOFFSETFROM:+0100
TZOFFSETTO:+0200
TZNAME:CEST
DTSTART:20230326T010000
END:DAYLIGHT
BEGIN:STANDARD
TZOFFSETFROM:+0200
TZOFFSETTO:+0100
TZNAME:CET
DTSTART:20231029T010000
END:STANDARD
BEGIN:DAYLIGHT
TZOFFSETFROM:+0100
TZOFFSETTO:+0200
TZNAME:CEST
DTSTART:20240331T010000
END:DAYLIGHT
BEGIN:STANDARD
TZOFFSETFROM:+0200
TZOFFSETTO:+0100
TZNAME:CET
DTSTART:20241027T010000
END:STANDARD
BEGIN:DAYLIGHT
TZOFFSETFROM:+0100
TZOFFSETTO:+0200
TZNAME:CEST
DTSTART:20250330T010000
END:DAYLIGHT
BEGIN:STANDARD
TZOFFSETFROM:+0200
TZOFFSETTO:+0100
TZNAME:CET
DTSTART:20251026T010000
END:STANDARD
END:VTIMEZONE
BEGIN:VEVENT
DTSTART;TZID=Europe/Paris:20240601T110000
DTEND;TZID=Europe/Paris:20240601T220000
DTSTAMP:20260421T204756
CREATED:20240516T072155Z
LAST-MODIFIED:20240527T124948Z
UID:882-1717239600-1717279200@26fk.fr
SUMMARY:Fêt'Ensemble\, la fête du quartier historique
DESCRIPTION:7h à 15h : Marché aux puces – Place de la Libération – organisé par l’association des Vieux Quartiers \n11h : Accueil – Place des Forges \n11h30 à 12h : Inauguration du décor « Comme des Poissons dans l’eau » en présence de Simon Plénet\, Maire d’Annonay et Finissage de l’exposition Esprits Marins au 22 et 24 rue Franki Kramer \nA partir 12h : Repas partagé : Apportez ce que vous aimez (une salade composée\, un peu de pain\, une quiche\, du fromage\, une salade de fruits…) pour partager un bon repas tous ensemble! \ndès 14h\nStand Maquillage pour les enfants par Marianne ROulle\n \nRéalisation d’un live-painting « la mer » avec Anne Henry \nVenez intervenir sur le thème de la mer\, sur des panneaux de bois sous les arcades en face de Moustache et Dentelles. Venez librement faire des dessins\, des symboles\, d’écrire des textes… comme sur un mur couvert de graffitis. Anne Henry fera vivre l’œuvre durant tout le mois de juin en y ajoutant régulièrement des éléments graphiques pour faire apparaître des formes ﬁguratives en lien avec la thématique des fonds marins. Un travail en multicouches. \nMise en couleurs du panneau photo :\n \nDurant le projet de création “Comme des Poissons dans l’eau”\, un grand panneau photo passe-tête a été fabriqué en collaboration avec l’association Bricolab\, également  très investie dans le quartier ancien. Une sirène\, un poulpe\, un poisson et un scaphandrier ont été dessinés par les artistes  mAAdi\, Thierry Potin et Anne Bottero\, accompagnant des jeunes du quartier. Un première étape de mise en peinture  a été réalisée et c’est le 1er Juin que ce projet sera finalisé avec vous. \nAteliers broderie collective avec Danielle \nKaraoké (au 24 ou 22 ?) \nConcert « Orgue de Barbarie » \nHerminemma tourne ardemment la manivelle de son orgue de barbarie… 27 notes pour égayer\, partager quelques instants précieux. Un instrument envoûtant au service d’une voix\, qui vous conduira dans la richesse\, la magie de la chanson française\, d’hier à aujourd’hui. Herminemma interprète un répertoire tantôt comique\, tantôt émouvant\, sérieux…\, où émotions et nostalgie sont au rendez-vous. Avec passion\, elle déroule ses cartons\, affichant une farouche envie de partager ses chansons. Elle les réinvente sans cesse\, au fil des rencontres. Elle lance la chanson ? Vite\, attrapez-la au vol. Avec Herminemma vous allez chanter\, danser\, valser\, « polker »\, « rocker »\, « madissonner »\, « charlestonner »\, « folker »… passer un moment unique. Bref\, ça va cartonner !!! \nA 15h- 17h :\n \nChasse aux trésors pour les enfants. RDV à 15h au 26FK \nCréation d’instruments de musique éco responsables. L’atelier d’AS Lutherie – 14 rue Franki Kramer \nSuivi d’un bœuf musical sur la place des Forges. A partir de 10 ans – Sur inscription Tel  07 60 68 21 07 \n  \n17h à 18h : Ouverture des portes du temple : découverte de l’exposition « protestantisme et sport » à l’occasion des jeux olympiques\, avec intermèdes musicaux\, organisé par les amis de l’orgue du temple. Infos 0681593293 \nA 18h : Apéro Concert au Bar de la Mairie : « Charlotte et Sarah vous proposent un voyage musical à travers les répertoires traditionnels d’ici et d’ailleurs ». Le bar de la Mairie vous propose un apéro toasté avec son punch ou son cocktail de jus de fruits. \n18h30 : Tirage de la Tombola. Des tickets sont déjà en vente au 22\, rue Franki Kramer. De nombreux lots sont à gagner grâce au concours généreux des commerçants d’Annonay \n19h : BARBECUE  \n  \nÉvénement organisé par les associations du quartier : le Bar de la Mairie\, Moustache et Dentelles\, 26FK\, les Vieux Quartiers\, l’Eglise Protestante Unie de France \n  \n 
URL:https://26fk.fr/agenda/fetensemble-la-fete-du-quartier-ancien/
END:VEVENT
END:VCALENDAR