BEGIN:VCALENDAR
VERSION:2.0
PRODID:-//Tiers-lieu culturel, numérique et social d’Annonay - ECPv6.15.20//NONSGML v1.0//EN
CALSCALE:GREGORIAN
METHOD:PUBLISH
X-WR-CALNAME:Tiers-lieu culturel, numérique et social d’Annonay
X-ORIGINAL-URL:https://26fk.fr
X-WR-CALDESC:Évènements pour Tiers-lieu culturel, numérique et social d’Annonay
REFRESH-INTERVAL;VALUE=DURATION:PT1H
X-Robots-Tag:noindex
X-PUBLISHED-TTL:PT1H
BEGIN:VTIMEZONE
TZID:Europe/Paris
BEGIN:DAYLIGHT
TZOFFSETFROM:+0100
TZOFFSETTO:+0200
TZNAME:CEST
DTSTART:20230326T010000
END:DAYLIGHT
BEGIN:STANDARD
TZOFFSETFROM:+0200
TZOFFSETTO:+0100
TZNAME:CET
DTSTART:20231029T010000
END:STANDARD
BEGIN:DAYLIGHT
TZOFFSETFROM:+0100
TZOFFSETTO:+0200
TZNAME:CEST
DTSTART:20240331T010000
END:DAYLIGHT
BEGIN:STANDARD
TZOFFSETFROM:+0200
TZOFFSETTO:+0100
TZNAME:CET
DTSTART:20241027T010000
END:STANDARD
BEGIN:DAYLIGHT
TZOFFSETFROM:+0100
TZOFFSETTO:+0200
TZNAME:CEST
DTSTART:20250330T010000
END:DAYLIGHT
BEGIN:STANDARD
TZOFFSETFROM:+0200
TZOFFSETTO:+0100
TZNAME:CET
DTSTART:20251026T010000
END:STANDARD
END:VTIMEZONE
BEGIN:VEVENT
DTSTART;TZID=Europe/Paris:20240308T163000
DTEND;TZID=Europe/Paris:20240308T173000
DTSTAMP:20260422T013032
CREATED:20240304T144630Z
LAST-MODIFIED:20240311T082035Z
UID:718-1709915400-1709919000@26fk.fr
SUMMARY:Goûter philo
DESCRIPTION:Voyager\, pour aller où?\nLe sujet te questionne?\nViens échanger et partager librement tes idées sur le sujet lors de notre goûter philo de mars !\n\n\nAnimé par Christophe\, professeur de philosophie et bénévole au 26FK.\nAccès libre\, sans inscription\n\n\n8 mars de 16h30 à 17h30\n\n\nRdv au 22\, rue Franki Kram
URL:https://26fk.fr/agenda/gouter-philo/
LOCATION:22\, rue Franki Kramer 7100 Annonay
CATEGORIES:Café
ATTACH;FMTTYPE=image/png:https://26fk.fr/wp-content/uploads/2024/03/gouter-philo-new2.png
END:VEVENT
END:VCALENDAR