BEGIN:VCALENDAR
VERSION:2.0
PRODID:-//Tiers-lieu culturel, numérique et social d’Annonay - ECPv6.15.20//NONSGML v1.0//EN
CALSCALE:GREGORIAN
METHOD:PUBLISH
X-WR-CALNAME:Tiers-lieu culturel, numérique et social d’Annonay
X-ORIGINAL-URL:https://26fk.fr
X-WR-CALDESC:Évènements pour Tiers-lieu culturel, numérique et social d’Annonay
REFRESH-INTERVAL;VALUE=DURATION:PT1H
X-Robots-Tag:noindex
X-PUBLISHED-TTL:PT1H
BEGIN:VTIMEZONE
TZID:Europe/Paris
BEGIN:DAYLIGHT
TZOFFSETFROM:+0100
TZOFFSETTO:+0200
TZNAME:CEST
DTSTART:20230326T010000
END:DAYLIGHT
BEGIN:STANDARD
TZOFFSETFROM:+0200
TZOFFSETTO:+0100
TZNAME:CET
DTSTART:20231029T010000
END:STANDARD
BEGIN:DAYLIGHT
TZOFFSETFROM:+0100
TZOFFSETTO:+0200
TZNAME:CEST
DTSTART:20240331T010000
END:DAYLIGHT
BEGIN:STANDARD
TZOFFSETFROM:+0200
TZOFFSETTO:+0100
TZNAME:CET
DTSTART:20241027T010000
END:STANDARD
BEGIN:DAYLIGHT
TZOFFSETFROM:+0100
TZOFFSETTO:+0200
TZNAME:CEST
DTSTART:20250330T010000
END:DAYLIGHT
BEGIN:STANDARD
TZOFFSETFROM:+0200
TZOFFSETTO:+0100
TZNAME:CET
DTSTART:20251026T010000
END:STANDARD
END:VTIMEZONE
BEGIN:VEVENT
DTSTART;TZID=Europe/Paris:20240306T100000
DTEND;TZID=Europe/Paris:20240306T133000
DTSTAMP:20260422T013020
CREATED:20240304T155016Z
LAST-MODIFIED:20240311T082049Z
UID:769-1709719200-1709731800@26fk.fr
SUMMARY:Cuisine participative
DESCRIPTION:Grâce à des denrées alimentaires données par les Restos du cœur et l’Intermarché\, nous imaginons et partageons ensemble une soupe et un repas. \n\nEn partenariat avec le collectif 31 et l’Accorderie. \n  \nTous les mercredis de 10h à 13h30 à l’Accorderie 
URL:https://26fk.fr/agenda/cuisine-participative/
LOCATION:L’Accorderie\, 3 rue Joseph Besset – Annonay
CATEGORIES:Café
ATTACH;FMTTYPE=image/png:https://26fk.fr/wp-content/uploads/2024/03/soupe-participative.png
END:VEVENT
END:VCALENDAR